Workbook
Name ContractTypeList: OFFSET(Setup!$E$6,0,0,COUNTA(Setup!$E$6:$E$1000),1)
Name DepartmentList: OFFSET(Setup!$A$6,0,0,COUNTA(Setup!$A$6:$A$1000),1)
Name DocumentItemList: OFFSET(Setup!$I$6,0,0,COUNTA(Setup!$I$6:$I$1000),1)
Name LeaveTypeList: OFFSET(Setup!$F$6,0,0,COUNTA(Setup!$F$6:$F$1000),1)
Name PayFrequencyList: OFFSET(Setup!$D$6,0,0,COUNTA(Setup!$D$6:$D$1000),1)
Name PermitStatusList: OFFSET(Setup!$K$6,0,0,COUNTA(Setup!$K$6:$K$1000),1)
Name PositionList: OFFSET(Setup!$B$6,0,0,COUNTA(Setup!$B$6:$B$1000),1)
Name RatingList: OFFSET(Setup!$G$6,0,0,COUNTA(Setup!$G$6:$G$1000),1)
Name StatusList: OFFSET(Setup!$C$6,0,0,COUNTA(Setup!$C$6:$C$1000),1)
Name TrainingList: OFFSET(Setup!$J$6,0,0,COUNTA(Setup!$J$6:$J$1000),1)
Name WarningTypeList: OFFSET(Setup!$H$6,0,0,COUNTA(Setup!$H$6:$H$1000),1)

Sheet Dashboard
A1: HRPro TT — Dashboard
A2: Last refreshed: live (Excel recalculates on open).
A4: Headcount | D4: Headcount by Department
A5: Total Employees | B5: =COUNTA('Employee Master'!A5:A104) -> 3 | D5: Department | E5: Active | F5: Total
A6: Active | B6: =COUNTIF('Employee Master'!E5:E104,"Active") -> 2 | D6: Operations | E6: =COUNTIFS('Employee Master'!$D$5:$D$104,"Operations",'Employee Master'!$E$5:$E$104,"Active") -> 0 | F6: =COUNTIF('Employee Master'!$D$5:$D$104,"Operations") -> 1
A7: On Probation | B7: =COUNTIF('Employee Master'!E5:E104,"Probation") -> 1 | D7: Finance | E7: =COUNTIFS('Employee Master'!$D$5:$D$104,"Finance",'Employee Master'!$E$5:$E$104,"Active") -> 1 | F7: =COUNTIF('Employee Master'!$D$5:$D$104,"Finance") -> 1
A8: On Leave | B8: =COUNTIF('Employee Master'!E5:E104,"On Leave") -> 0 | D8: Human Resources | E8: =COUNTIFS('Employee Master'!$D$5:$D$104,"Human Resources",'Employee Master'!$E$5:$E$104,"Active") -> 1 | F8: =COUNTIF('Employee Master'!$D$5:$D$104,"Human Resources") -> 1
A9: Notice Period | B9: =COUNTIF('Employee Master'!E5:E104,"Notice Period") -> 0 | D9: Sales | E9: =COUNTIFS('Employee Master'!$D$5:$D$104,"Sales",'Employee Master'!$E$5:$E$104,"Active") -> 0 | F9: =COUNTIF('Employee Master'!$D$5:$D$104,"Sales") -> 0
A10: Inactive | B10: =COUNTIF('Employee Master'!E5:E104,"Inactive") -> 0 | D10: Marketing | E10: =COUNTIFS('Employee Master'!$D$5:$D$104,"Marketing",'Employee Master'!$E$5:$E$104,"Active") -> 0 | F10: =COUNTIF('Employee Master'!$D$5:$D$104,"Marketing") -> 0
D11: IT | E11: =COUNTIFS('Employee Master'!$D$5:$D$104,"IT",'Employee Master'!$E$5:$E$104,"Active") -> 0 | F11: =COUNTIF('Employee Master'!$D$5:$D$104,"IT") -> 0
D12: Customer Service | E12: =COUNTIFS('Employee Master'!$D$5:$D$104,"Customer Service",'Employee Master'!$E$5:$E$104,"Active") -> 0 | F12: =COUNTIF('Employee Master'!$D$5:$D$104,"Customer Service") -> 0
D13: Administration | E13: =COUNTIFS('Employee Master'!$D$5:$D$104,"Administration",'Employee Master'!$E$5:$E$104,"Active") -> 0 | F13: =COUNTIF('Employee Master'!$D$5:$D$104,"Administration") -> 0
D14: Logistics | E14: =COUNTIFS('Employee Master'!$D$5:$D$104,"Logistics",'Employee Master'!$E$5:$E$104,"Active") -> 0 | F14: =COUNTIF('Employee Master'!$D$5:$D$104,"Logistics") -> 0
D15: Legal | E15: =COUNTIFS('Employee Master'!$D$5:$D$104,"Legal",'Employee Master'!$E$5:$E$104,"Active") -> 0 | F15: =COUNTIF('Employee Master'!$D$5:$D$104,"Legal") -> 0
A17: Alerts (Action Required)
A18: Probation Ending in 30 Days | B18: =SUMPRODUCT(('Employee Master'!H5:H104<>"")*(IFERROR('Employee Master'!H5:H104-TODAY(),999)>=0)*(IFERROR('Employee Master'!H5:H104-TODAY(),999)<=30)) -> 0
A19: Reviews Overdue | B19: =COUNTIF(Performance!G5:G104,"OVERDUE") -> 0
A20: Reviews Due in Next 30 Days | B20: =COUNTIF(Performance!G5:G104,"Due Soon") -> 2
A21: Negative Vacation Balance | B21: =SUMPRODUCT(('Leave Tracker'!E5:E104<>"")*(IFERROR(VALUE('Leave Tracker'!E5:E104),0)<0)) -> 0
A23: Tenure Distribution
A24: < 1 year | B24: =SUMPRODUCT(('Employee Master'!G5:G104<>"")*((TODAY()-'Employee Master'!G5:G104)/365<1)) -> 1
A25: 1–3 years | B25: =SUMPRODUCT(('Employee Master'!G5:G104<>"")*((TODAY()-'Employee Master'!G5:G104)/365>=1)*((TODAY()-'Employee Master'!G5:G104)/365<3)) -> 0
A26: 3–5 years | B26: =SUMPRODUCT(('Employee Master'!G5:G104<>"")*((TODAY()-'Employee Master'!G5:G104)/365>=3)*((TODAY()-'Employee Master'!G5:G104)/365<5)) -> 2
A27: 5+ years | B27: =SUMPRODUCT(('Employee Master'!G5:G104<>"")*((TODAY()-'Employee Master'!G5:G104)/365>=5)) -> 0
A28: Average Tenure (Years) | B28: =IFERROR(SUMPRODUCT(('Employee Master'!G5:G104<>"")*((TODAY()-'Employee Master'!G5:G104)/365))/COUNTA('Employee Master'!G5:G104),0) -> 2.6694064
A30: Tier 2 — Compliance & Risk Alerts
A31: Probation Decisions Pending | B31: =COUNTIFS('Probation Tracker'!A5:A104,"<>",'Probation Tracker'!F5:F104,"Pending") -> 0
A32: Probation Past Due (No Decision) | B32: =SUMPRODUCT(('Probation Tracker'!A5:A104<>"")*(IFERROR(VALUE('Probation Tracker'!E5:E104),999)<0)*(('Probation Tracker'!F5:F104="")+('Probation Tracker'!F5:F104="Pending"))) -> 0
A33: Contracts Expiring (60 days) | B33: =SUMPRODUCT(('Contract & Permit Tracker'!A6:A105<>"")*(IFERROR(VALUE('Contract & Permit Tracker'!E6:E105),999)>=0)*(IFERROR(VALUE('Contract & Permit Tracker'!E6:E105),999)<=Setup!$B$38)) -> 0
A34: Work Permits Expiring (90 days) | B34: =SUMPRODUCT(('Contract & Permit Tracker'!A6:A105<>"")*('Contract & Permit Tracker'!F6:F105="Yes")*(IFERROR(VALUE('Contract & Permit Tracker'!I6:I105),999)>=0)*(IFERROR(VALUE('Contract & Permit Tracker'!I6:I105),999)<=Setup!$B$39)) -> 0
A35: Work Permits EXPIRED | B35: =SUMPRODUCT(('Contract & Permit Tracker'!A6:A105<>"")*('Contract & Permit Tracker'!F6:F105="Yes")*(IFERROR(VALUE('Contract & Permit Tracker'!I6:I105),999)<0)) -> 0
A36: Trainings Expiring Soon | B36: =COUNTIF('Training Register'!I5:I204,"Expiring Soon") -> 0
A37: Trainings EXPIRED | B37: =COUNTIF('Training Register'!I5:I204,"EXPIRED") -> 0
A38: Active Disciplinary Warnings | B38: =COUNTIF('Disciplinary Register'!J6:J205,"Active") -> 0
A39: Document Files Below 100% | B39: =SUMPRODUCT(('Document Checklist'!A5:A104<>"")*(IFERROR(VALUE('Document Checklist'!N5:N104),0)<1)) -> 1
A42: Data Integrity
A43: Total Orphan Values | B43: ='Data Integrity'!K15 -> 889
A44: See "Data Integrity" tab → filter Status = ORPHAN to find affected rows.

Sheet Instructions
A1: HRPro TT — How to Use
A2: A short guide to managing your workforce records, leave, performance, probation, contracts, training, discipline, and document compliance.
A4: 1. First-time setup
A5: Open the Privacy & Access tab. Complete the file storage location, breach contact, and authorised users list. Follow the hardening instructions to set a file password and apply sheet protection.
A6: Open the Setup tab. Adjust the controlled lists (Departments, Positions, Status, Pay Frequency, Contract Type, Leave Type, Performance Rating, Warning Type, Document Items, Common Trainings, Permit Status) to match your organisation. Verify the statutory leave entitlements and the warning validity periods.
A8: 2. Adding an employee
A9: Open the Employee Master tab. Add a new row with a unique Employee ID (e.g. EMP-004). Treat the ID as permanent — it is the key that links every other tab to this employee.
A10: Fill in identity, employment, and compensation details: name, position, department, status, contract type, start date, manager, email, phone, salary, pay frequency, NIS number, BIR number. Probation End auto-calculates when Contract Type is set to Probationary.
A11: Across the workbook, "Full Name (auto)" and similar columns appear blank until you enter the same Employee ID on those tabs. Salary, pay frequency, and statutory IDs auto-pull to Employment Details.
A13: 3. Day-to-day workflow
A14: Leave Tracker — record days taken in the yellow cells. Balances calculate automatically. A red cell means the employee has gone over their entitlement. Default vacation entitlement is the flat figure on the Setup tab. To scale vacation by years of service instead, set the Vacation Tenure Ladder toggle on Setup to Yes; entitlement then comes from the matching tier (default tiers: 0–4 years 14 days, 5–9 years 17 days, 10+ years 21 days — edit to match your contracts). Sick and Maternity entitlements use the flat Setup defaults regardless.
A15: Performance — enter the most recent review date and rating. Next Review Due and Status (On Track / Due Soon / OVERDUE) auto-calculate based on the cycle length set in Setup.
... A40: A change to an employee's record on the Master propagates to all linked tabs immediately. Salary, pay frequency, and statutory IDs are stored only on the Master and viewed via Employment Details.

Sheet Setup
A1: Setup — Controlled Lists & Statutory Defaults
A3: Edit, add, or delete items in any of the columns below. Dropdowns throughout the workbook will reflect your changes automatically — no need to extend ranges. Add new items in the next empty cell of the relevant column.
A5: Departments | B5: Positions | C5: Status | D5: Pay Frequency | E5: Contract Type | F5: Leave Type | G5: Performance Rating | H5: Warning Type | I5: Document Item | J5: Common Trainings | K5: Permit Status
A6: Operations | B6: Manager | C6: Active | D6: Monthly | E6: Permanent | F6: Vacation | G6: 1 - Below | H6: Verbal | I6: Signed Contract | J6: OSH Induction | K6: Not Applicable
A7: Finance | B7: Supervisor | C7: Probation | D7: Fortnightly | E7: Fixed-Term | F7: Sick | G7: 2 - Developing | H7: Written | I7: TD-1 Filed | J7: First Aid | K7: Active
A8: Human Resources | B8: Officer | C8: On Leave | D8: Weekly | E8: On-Call | F8: Maternity | G8: 3 - Meets | H8: Final | I8: NIS Application | J8: Fire Warden | K8: Pending Renewal
A9: Sales | B9: Assistant | C9: Notice Period | E9: Probationary | F9: Paternity | G9: 4 - Exceeds | H9: Suspension | I9: BIR Registration | J9: Food Handler | K9: Expired
A10: Marketing | B10: Coordinator | C10: Inactive | F10: Bereavement | G10: 5 - Outstanding | H10: Dismissal | I10: Photo ID Copy | J10: HACCP | K10: In Application
A11: IT | B11: Specialist | F11: Study | I11: Qualifications | J11: Defensive Driving
A12: Customer Service | B12: Analyst | F12: Casual | I12: References Checked | J12: Anti-Harassment
A13: Administration | B13: Director | F13: Unpaid | I13: Induction Completed | J13: Data Protection
A14: Logistics | B14: Clerk | I14: Confidentiality Agreement | J14: Manual Handling
A15: Legal | B15: Technician | I15: Bank Details | J15: Confined Space
I16: Medical (if required) | J16: Hot Work
A20: Statutory Leave Entitlements (Trinidad & Tobago — verify against current legislation)
A21: Leave Type | B21: Default Days | C21: Notes
A22: Vacation | B22: 14 | C22: Two weeks per year is common practice; varies by contract
A23: Sick | B23: 14 | C23: Subject to medical certificate per company policy
A24: Maternity | B24: 98 | C24: 14 weeks under Maternity Protection Act
A25: Paternity | B25: 3 | C25: Common practice; varies by employer
A26: Bereavement | B26: 3 | C26: Per company policy
A27: Study | B27: 5 | C27: Per company policy or employment contract
A28: Casual | B28: 3 | C28: Per company policy
A30: Note: The Maternity Protection Act allows extension beyond 14 weeks. Up to 12 weeks medical extension (half-pay first 6 weeks, no pay last 6) or up to 4 weeks non-medical extension (unpaid). Extensions require written notice within 10 working days of intended return. Use the Notes column on Leave Tracker to record any extension granted.
A31: Probation Period (Months) | B31: 3 | C31: Default; override per employee in the Employee Master tab
A32: Performance Review Cycle (Months) | B32: 12 | C32: Months between formal reviews
A34: Tier 2 Settings
A35: Verbal Warning Validity (Months) | B35: 6 | C35: Verbal warnings typically lapse after 6 months
A36: Written Warning Validity (Months) | B36: 12 | C36: Written warnings typically lapse after 12 months
A37: Final Warning Validity (Months) | B37: 18 | C37: Final warnings typically remain on file 18-24 months
A38: Contract Expiry Alert (Days) | B38: 60 | C38: Days ahead to flag contract expiries
A39: Permit Expiry Alert (Days) | B39: 90 | C39: Days ahead to flag work permit expiries
A40: Training Expiry Alert (Days) | B40: 30 | C40: Days ahead to flag training certification expiries
A43: Vacation Tenure Ladder
A44: Use Tenure Ladder for Vacation? | B44: No | C44: Set to Yes to scale vacation by years of service. When No, the flat default at row 22 applies to all employees.
A46: Tier | B46: Min Years | C46: Max Years | D46: Vacation Days | E46: Notes
A47: Tier 1 | B47: 0 | C47: 4 | D47: 14 | E47: Years 0 through 4 of service
A48: Tier 2 | B48: 5 | C48: 9 | D48: 17 | E48: Years 5 through 9 of service
A49: Tier 3 | B49: 10 | C49: 99 | D49: 21 | E49: Year 10 onwards (set Max Years high to act as upper tier)
A51: Edit Min Years, Max Years, and Vacation Days to match your contracts. For a flat vacation policy across all tenure, set toggle to No and use row 22.

Sheet Employee Master
A1: Employee Master
A2: Single source of truth — every other tab references the Employee ID set here.
A4: Employee ID | B4: Full Name | C4: Position | D4: Department | E4: Status | F4: Contract Type | G4: Start Date | H4: Probation End | I4: Manager | J4: Email | K4: Phone | L4: Salary (Monthly) | M4: Pay Frequency | N4: NIS Number | O4: BIR Number | P4: Notes | Q4: Years of Service (auto)
A5: EMP-001 | B5: Anita Sookhai | C5: Manager | D5: Human Resources | E5: Active | F5: Permanent | G5: 44635 | H5: =IF(F5="Probationary",EDATE(G5,Setup!$B$31),"") | I5: Aaron Singh | J5: anita.sookhai@example.com | K5: 868-555-0101 | L5: 12000 | M5: Monthly | N5: 1234567 | O5: 987654321 | Q5: =IFERROR(IF(G5="","",(TODAY()-G5)/365.25),"") -> 4.238193
A6: EMP-002 | B6: Reuben Mohammed | C6: Officer | D6: Finance | E6: Active | F6: Permanent | G6: 44935 | H6: =IF(F6="Probationary",EDATE(G6,Setup!$B$31),"") | I6: Sarah Joseph | J6: reuben.mohammed@example.com | K6: 868-555-0102 | L6: 8500 | M6: Monthly | N6: 2345678 | O6: 876543219 | Q6: =IFERROR(IF(G6="","",(TODAY()-G6)/365.25),"") -> 3.4168378
A7: EMP-003 | B7: Keisha Charles | C7: Coordinator | D7: Operations | E7: Probation | F7: Probationary | G7: 46056 | H7: =IF(F7="Probationary",EDATE(G7,Setup!$B$31),"") -> 46145 | I7: Aaron Singh | J7: keisha.charles@example.com | K7: 868-555-0103 | L7: 9500 | M7: Monthly | N7: 3456789 | O7: 765432198 | Q7: =IFERROR(IF(G7="","",(TODAY()-G7)/365.25),"") -> 0.34770705
H8: =IFERROR(IF(F8="Probationary",EDATE(G8,Setup!$B$31),""),"") | Q8: =IFERROR(IF(G8="","",(TODAY()-G8)/365.25),"")
H9: =IFERROR(IF(F9="Probationary",EDATE(G9,Setup!$B$31),""),"") | Q9: =IFERROR(IF(G9="","",(TODAY()-G9)/365.25),"")
H10: =IFERROR(IF(F10="Probationary",EDATE(G10,Setup!$B$31),""),"") | Q10: =IFERROR(IF(G10="","",(TODAY()-G10)/365.25),"")
H11: =IFERROR(IF(F11="Probationary",EDATE(G11,Setup!$B$31),""),"") | Q11: =IFERROR(IF(G11="","",(TODAY()-G11)/365.25),"")
H12: =IFERROR(IF(F12="Probationary",EDATE(G12,Setup!$B$31),""),"") | Q12: =IFERROR(IF(G12="","",(TODAY()-G12)/365.25),"")
H13: =IFERROR(IF(F13="Probationary",EDATE(G13,Setup!$B$31),""),"") | Q13: =IFERROR(IF(G13="","",(TODAY()-G13)/365.25),"")
H14: =IFERROR(IF(F14="Probationary",EDATE(G14,Setup!$B$31),""),"") | Q14: =IFERROR(IF(G14="","",(TODAY()-G14)/365.25),"")
H15: =IFERROR(IF(F15="Probationary",EDATE(G15,Setup!$B$31),""),"") | Q15: =IFERROR(IF(G15="","",(TODAY()-G15)/365.25),"")
H16: =IFERROR(IF(F16="Probationary",EDATE(G16,Setup!$B$31),""),"") | Q16: =IFERROR(IF(G16="","",(TODAY()-G16)/365.25),"")
H17: =IFERROR(IF(F17="Probationary",EDATE(G17,Setup!$B$31),""),"") | Q17: =IFERROR(IF(G17="","",(TODAY()-G17)/365.25),"")
H18: =IFERROR(IF(F18="Probationary",EDATE(G18,Setup!$B$31),""),"") | Q18: =IFERROR(IF(G18="","",(TODAY()-G18)/365.25),"")
H19: =IFERROR(IF(F19="Probationary",EDATE(G19,Setup!$B$31),""),"") | Q19: =IFERROR(IF(G19="","",(TODAY()-G19)/365.25),"")
... H104: =IFERROR(IF(F104="Probationary",EDATE(G104,Setup!$B$31),""),"") | Q104: =IFERROR(IF(G104="","",(TODAY()-G104)/365.25),"")

Sheet Personal Info
A1: Personal Info
A2: Sensitive personal data. Restrict access. See Privacy & Access tab (added in Tier 2).
A3: SENSITIVE: Restrict access. Subject to the Data Protection Act 2011. See the Privacy & Access tab for hardening instructions.
A4: Employee ID | B4: Full Name (auto) | C4: Date of Birth | D4: Address | E4: Emergency Contact | F4: Emergency Phone | G4: Notes
A5: EMP-001 | B5: =IFERROR(INDEX('Employee Master'!$B$5:$B$104,MATCH(A5,'Employee Master'!$A$5:$A$104,0)),"") -> Anita Sookhai | C5: 33036 | D5: 12 Park Street, Port of Spain | E5: Devesh Sookhai | F5: 868-555-0901
A6: EMP-002 | B6: =IFERROR(INDEX('Employee Master'!$B$5:$B$104,MATCH(A6,'Employee Master'!$A$5:$A$104,0)),"") -> Reuben Mohammed
B7: =IFERROR(INDEX('Employee Master'!$B$5:$B$104,MATCH(A7,'Employee Master'!$A$5:$A$104,0)),"")
B8: =IFERROR(INDEX('Employee Master'!$B$5:$B$104,MATCH(A8,'Employee Master'!$A$5:$A$104,0)),"")
B9: =IFERROR(INDEX('Employee Master'!$B$5:$B$104,MATCH(A9,'Employee Master'!$A$5:$A$104,0)),"")
B10: =IFERROR(INDEX('Employee Master'!$B$5:$B$104,MATCH(A10,'Employee Master'!$A$5:$A$104,0)),"")
B11: =IFERROR(INDEX('Employee Master'!$B$5:$B$104,MATCH(A11,'Employee Master'!$A$5:$A$104,0)),"")
B12: =IFERROR(INDEX('Employee Master'!$B$5:$B$104,MATCH(A12,'Employee Master'!$A$5:$A$104,0)),"")
B13: =IFERROR(INDEX('Employee Master'!$B$5:$B$104,MATCH(A13,'Employee Master'!$A$5:$A$104,0)),"")
B14: =IFERROR(INDEX('Employee Master'!$B$5:$B$104,MATCH(A14,'Employee Master'!$A$5:$A$104,0)),"")
B15: =IFERROR(INDEX('Employee Master'!$B$5:$B$104,MATCH(A15,'Employee Master'!$A$5:$A$104,0)),"")
B16: =IFERROR(INDEX('Employee Master'!$B$5:$B$104,MATCH(A16,'Employee Master'!$A$5:$A$104,0)),"")
B17: =IFERROR(INDEX('Employee Master'!$B$5:$B$104,MATCH(A17,'Employee Master'!$A$5:$A$104,0)),"")
B18: =IFERROR(INDEX('Employee Master'!$B$5:$B$104,MATCH(A18,'Employee Master'!$A$5:$A$104,0)),"")
... B104: =IFERROR(INDEX('Employee Master'!$B$5:$B$104,MATCH(A104,'Employee Master'!$A$5:$A$104,0)),"")

Sheet Employment Details
A1: Employment Details
A2: Compensation, statutory IDs, and tax flags. All fields except TD-1 and Notes auto-pull from Employee Master.
A3: SENSITIVE: Restrict access. Subject to the Data Protection Act 2011. See the Privacy & Access tab for hardening instructions.
A4: Employee ID | B4: Full Name (auto) | C4: Salary (auto) | D4: Pay Frequency (auto) | E4: NIS Number (auto) | F4: BIR Number (auto) | G4: TD-1 Filed | H4: Notes
A5: EMP-001 | B5: =IFERROR(INDEX('Employee Master'!$B$5:$B$104,MATCH(A5,'Employee Master'!$A$5:$A$104,0)),"") -> Anita Sookhai | C5: =IFERROR(INDEX('Employee Master'!$L$5:$L$104,MATCH(A5,'Employee Master'!$A$5:$A$104,0)),"") -> 12000 | D5: =IFERROR(INDEX('Employee Master'!$M$5:$M$104,MATCH(A5,'Employee Master'!$A$5:$A$104,0)),"") -> Monthly | E5: =IFERROR(INDEX('Employee Master'!$N$5:$N$104,MATCH(A5,'Employee Master'!$A$5:$A$104,0)),"") -> 1234567 | F5: =IFERROR(INDEX('Employee Master'!$O$5:$O$104,MATCH(A5,'Employee Master'!$A$5:$A$104,0)),"") -> 987654321 | G5: Yes
A6: EMP-002 | B6: =IFERROR(INDEX('Employee Master'!$B$5:$B$104,MATCH(A6,'Employee Master'!$A$5:$A$104,0)),"") -> Reuben Mohammed | C6: =IFERROR(INDEX('Employee Master'!$L$5:$L$104,MATCH(A6,'Employee Master'!$A$5:$A$104,0)),"") -> 8500 | D6: =IFERROR(INDEX('Employee Master'!$M$5:$M$104,MATCH(A6,'Employee Master'!$A$5:$A$104,0)),"") -> Monthly | E6: =IFERROR(INDEX('Employee Master'!$N$5:$N$104,MATCH(A6,'Employee Master'!$A$5:$A$104,0)),"") -> 2345678 | F6: =IFERROR(INDEX('Employee Master'!$O$5:$O$104,MATCH(A6,'Employee Master'!$A$5:$A$104,0)),"") -> 876543219
B7: =IFERROR(INDEX('Employee Master'!$B$5:$B$104,MATCH(A7,'Employee Master'!$A$5:$A$104,0)),"") | C7: =IFERROR(INDEX('Employee Master'!$L$5:$L$104,MATCH(A7,'Employee Master'!$A$5:$A$104,0)),"") | D7: =IFERROR(INDEX('Employee Master'!$M$5:$M$104,MATCH(A7,'Employee Master'!$A$5:$A$104,0)),"") | E7: =IFERROR(INDEX('Employee Master'!$N$5:$N$104,MATCH(A7,'Employee Master'!$A$5:$A$104,0)),"") | F7: =IFERROR(INDEX('Employee Master'!$O$5:$O$104,MATCH(A7,'Employee Master'!$A$5:$A$104,0)),"")
B8: =IFERROR(INDEX('Employee Master'!$B$5:$B$104,MATCH(A8,'Employee Master'!$A$5:$A$104,0)),"") | C8: =IFERROR(INDEX('Employee Master'!$L$5:$L$104,MATCH(A8,'Employee Master'!$A$5:$A$104,0)),"") | D8: =IFERROR(INDEX('Employee Master'!$M$5:$M$104,MATCH(A8,'Employee Master'!$A$5:$A$104,0)),"") | E8: =IFERROR(INDEX('Employee Master'!$N$5:$N$104,MATCH(A8,'Employee Master'!$A$5:$A$104,0)),"") | F8: =IFERROR(INDEX('Employee Master'!$O$5:$O$104,MATCH(A8,'Employee Master'!$A$5:$A$104,0)),"")
B9: =IFERROR(INDEX('Employee Master'!$B$5:$B$104,MATCH(A9,'Employee Master'!$A$5:$A$104,0)),"") | C9: =IFERROR(INDEX('Employee Master'!$L$5:$L$104,MATCH(A9,'Employee Master'!$A$5:$A$104,0)),"") | D9: =IFERROR(INDEX('Employee Master'!$M$5:$M$104,MATCH(A9,'Employee Master'!$A$5:$A$104,0)),"") | E9: =IFERROR(INDEX('Employee Master'!$N$5:$N$104,MATCH(A9,'Employee Master'!$A$5:$A$104,0)),"") | F9: =IFERROR(INDEX('Employee Master'!$O$5:$O$104,MATCH(A9,'Employee Master'!$A$5:$A$104,0)),"")
B10: =IFERROR(INDEX('Employee Master'!$B$5:$B$104,MATCH(A10,'Employee Master'!$A$5:$A$104,0)),"") | C10: =IFERROR(INDEX('Employee Master'!$L$5:$L$104,MATCH(A10,'Employee Master'!$A$5:$A$104,0)),"") | D10: =IFERROR(INDEX('Employee Master'!$M$5:$M$104,MATCH(A10,'Employee Master'!$A$5:$A$104,0)),"") | E10: =IFERROR(INDEX('Employee Master'!$N$5:$N$104,MATCH(A10,'Employee Master'!$A$5:$A$104,0)),"") | F10: =IFERROR(INDEX('Employee Master'!$O$5:$O$104,MATCH(A10,'Employee Master'!$A$5:$A$104,0)),"")
B11: =IFERROR(INDEX('Employee Master'!$B$5:$B$104,MATCH(A11,'Employee Master'!$A$5:$A$104,0)),"") | C11: =IFERROR(INDEX('Employee Master'!$L$5:$L$104,MATCH(A11,'Employee Master'!$A$5:$A$104,0)),"") | D11: =IFERROR(INDEX('Employee Master'!$M$5:$M$104,MATCH(A11,'Employee Master'!$A$5:$A$104,0)),"") | E11: =IFERROR(INDEX('Employee Master'!$N$5:$N$104,MATCH(A11,'Employee Master'!$A$5:$A$104,0)),"") | F11: =IFERROR(INDEX('Employee Master'!$O$5:$O$104,MATCH(A11,'Employee Master'!$A$5:$A$104,0)),"")
B12: =IFERROR(INDEX('Employee Master'!$B$5:$B$104,MATCH(A12,'Employee Master'!$A$5:$A$104,0)),"") | C12: =IFERROR(INDEX('Employee Master'!$L$5:$L$104,MATCH(A12,'Employee Master'!$A$5:$A$104,0)),"") | D12: =IFERROR(INDEX('Employee Master'!$M$5:$M$104,MATCH(A12,'Employee Master'!$A$5:$A$104,0)),"") | E12: =IFERROR(INDEX('Employee Master'!$N$5:$N$104,MATCH(A12,'Employee Master'!$A$5:$A$104,0)),"") | F12: =IFERROR(INDEX('Employee Master'!$O$5:$O$104,MATCH(A12,'Employee Master'!$A$5:$A$104,0)),"")
B13: =IFERROR(INDEX('Employee Master'!$B$5:$B$104,MATCH(A13,'Employee Master'!$A$5:$A$104,0)),"") | C13: =IFERROR(INDEX('Employee Master'!$L$5:$L$104,MATCH(A13,'Employee Master'!$A$5:$A$104,0)),"") | D13: =IFERROR(INDEX('Employee Master'!$M$5:$M$104,MATCH(A13,'Employee Master'!$A$5:$A$104,0)),"") | E13: =IFERROR(INDEX('Employee Master'!$N$5:$N$104,MATCH(A13,'Employee Master'!$A$5:$A$104,0)),"") | F13: =IFERROR(INDEX('Employee Master'!$O$5:$O$104,MATCH(A13,'Employee Master'!$A$5:$A$104,0)),"")
B14: =IFERROR(INDEX('Employee Master'!$B$5:$B$104,MATCH(A14,'Employee Master'!$A$5:$A$104,0)),"") | C14: =IFERROR(INDEX('Employee Master'!$L$5:$L$104,MATCH(A14,'Employee Master'!$A$5:$A$104,0)),"") | D14: =IFERROR(INDEX('Employee Master'!$M$5:$M$104,MATCH(A14,'Employee Master'!$A$5:$A$104,0)),"") | E14: =IFERROR(INDEX('Employee Master'!$N$5:$N$104,MATCH(A14,'Employee Master'!$A$5:$A$104,0)),"") | F14: =IFERROR(INDEX('Employee Master'!$O$5:$O$104,MATCH(A14,'Employee Master'!$A$5:$A$104,0)),"")
B15: =IFERROR(INDEX('Employee Master'!$B$5:$B$104,MATCH(A15,'Employee Master'!$A$5:$A$104,0)),"") | C15: =IFERROR(INDEX('Employee Master'!$L$5:$L$104,MATCH(A15,'Employee Master'!$A$5:$A$104,0)),"") | D15: =IFERROR(INDEX('Employee Master'!$M$5:$M$104,MATCH(A15,'Employee Master'!$A$5:$A$104,0)),"") | E15: =IFERROR(INDEX('Employee Master'!$N$5:$N$104,MATCH(A15,'Employee Master'!$A$5:$A$104,0)),"") | F15: =IFERROR(INDEX('Employee Master'!$O$5:$O$104,MATCH(A15,'Employee Master'!$A$5:$A$104,0)),"")
B16: =IFERROR(INDEX('Employee Master'!$B$5:$B$104,MATCH(A16,'Employee Master'!$A$5:$A$104,0)),"") | C16: =IFERROR(INDEX('Employee Master'!$L$5:$L$104,MATCH(A16,'Employee Master'!$A$5:$A$104,0)),"") | D16: =IFERROR(INDEX('Employee Master'!$M$5:$M$104,MATCH(A16,'Employee Master'!$A$5:$A$104,0)),"") | E16: =IFERROR(INDEX('Employee Master'!$N$5:$N$104,MATCH(A16,'Employee Master'!$A$5:$A$104,0)),"") | F16: =IFERROR(INDEX('Employee Master'!$O$5:$O$104,MATCH(A16,'Employee Master'!$A$5:$A$104,0)),"")
B17: =IFERROR(INDEX('Employee Master'!$B$5:$B$104,MATCH(A17,'Employee Master'!$A$5:$A$104,0)),"") | C17: =IFERROR(INDEX('Employee Master'!$L$5:$L$104,MATCH(A17,'Employee Master'!$A$5:$A$104,0)),"") | D17: =IFERROR(INDEX('Employee Master'!$M$5:$M$104,MATCH(A17,'Employee Master'!$A$5:$A$104,0)),"") | E17: =IFERROR(INDEX('Employee Master'!$N$5:$N$104,MATCH(A17,'Employee Master'!$A$5:$A$104,0)),"") | F17: =IFERROR(INDEX('Employee Master'!$O$5:$O$104,MATCH(A17,'Employee Master'!$A$5:$A$104,0)),"")
B18: =IFERROR(INDEX('Employee Master'!$B$5:$B$104,MATCH(A18,'Employee Master'!$A$5:$A$104,0)),"") | C18: =IFERROR(INDEX('Employee Master'!$L$5:$L$104,MATCH(A18,'Employee Master'!$A$5:$A$104,0)),"") | D18: =IFERROR(INDEX('Employee Master'!$M$5:$M$104,MATCH(A18,'Employee Master'!$A$5:$A$104,0)),"") | E18: =IFERROR(INDEX('Employee Master'!$N$5:$N$104,MATCH(A18,'Employee Master'!$A$5:$A$104,0)),"") | F18: =IFERROR(INDEX('Employee Master'!$O$5:$O$104,MATCH(A18,'Employee Master'!$A$5:$A$104,0)),"")
... B104: =IFERROR(INDEX('Employee Master'!$B$5:$B$104,MATCH(A104,'Employee Master'!$A$5:$A$104,0)),"") | C104: =IFERROR(INDEX('Employee Master'!$L$5:$L$104,MATCH(A104,'Employee Master'!$A$5:$A$104,0)),"") | D104: =IFERROR(INDEX('Employee Master'!$M$5:$M$104,MATCH(A104,'Employee Master'!$A$5:$A$104,0)),"") | E104: =IFERROR(INDEX('Employee Master'!$N$5:$N$104,MATCH(A104,'Employee Master'!$A$5:$A$104,0)),"") | F104: =IFERROR(INDEX('Employee Master'!$O$5:$O$104,MATCH(A104,'Employee Master'!$A$5:$A$104,0)),"")

Sheet Leave Tracker
A1: Leave Tracker
A2: Each leave category has its own entitlement, taken, and balance. Defaults pull from Setup.
A4: Employee ID | B4: Full Name (auto) | C4: Vacation Entitled | D4: Vacation Taken | E4: Vacation Balance | F4: Sick Entitled | G4: Sick Taken | H4: Sick Balance | I4: Maternity Entitled | J4: Maternity Taken | K4: Maternity Balance | L4: Other Leave Taken | M4: Notes
A5: EMP-001 | B5: =IFERROR(INDEX('Employee Master'!$B$5:$B$104,MATCH(A5,'Employee Master'!$A$5:$A$104,0)),"") -> Anita Sookhai | C5: =IF(A5="","",IF(Setup!$B$44="Yes",IFERROR(SUMPRODUCT((Setup!$B$47:$B$49<=INDEX('Employee Master'!$Q$5:$Q$104,MATCH(A5,'Employee Master'!$A$5:$A$104,0)))*(Setup!$C$47:$C$49>=INDEX('Employee Master'!$Q$5:$Q$104,MATCH(A5,'Employee Master'!$A$5:$A$104,0)))*Setup!$D$47:$D$49),Setup!$B$22),Setup!$B$22)) -> 14 | D5: 5 | E5: =IFERROR(C5-D5,"") -> 9 | F5: =IF(A5="","",Setup!$B$23) -> 14 | G5: 2 | H5: =IFERROR(F5-G5,"") -> 12 | I5: =IF(A5="","",Setup!$B$24) -> 98 | K5: =IFERROR(I5-J5,"") -> 98
A6: EMP-002 | B6: =IFERROR(INDEX('Employee Master'!$B$5:$B$104,MATCH(A6,'Employee Master'!$A$5:$A$104,0)),"") -> Reuben Mohammed | C6: =IF(A6="","",IF(Setup!$B$44="Yes",IFERROR(SUMPRODUCT((Setup!$B$47:$B$49<=INDEX('Employee Master'!$Q$5:$Q$104,MATCH(A6,'Employee Master'!$A$5:$A$104,0)))*(Setup!$C$47:$C$49>=INDEX('Employee Master'!$Q$5:$Q$104,MATCH(A6,'Employee Master'!$A$5:$A$104,0)))*Setup!$D$47:$D$49),Setup!$B$22),Setup!$B$22)) -> 14 | E6: =IFERROR(C6-D6,"") -> 14 | F6: =IF(A6="","",Setup!$B$23) -> 14 | H6: =IFERROR(F6-G6,"") -> 14 | I6: =IF(A6="","",Setup!$B$24) -> 98 | K6: =IFERROR(I6-J6,"") -> 98
A7: EMP-003 | B7: =IFERROR(INDEX('Employee Master'!$B$5:$B$104,MATCH(A7,'Employee Master'!$A$5:$A$104,0)),"") -> Keisha Charles | C7: =IF(A7="","",IF(Setup!$B$44="Yes",IFERROR(SUMPRODUCT((Setup!$B$47:$B$49<=INDEX('Employee Master'!$Q$5:$Q$104,MATCH(A7,'Employee Master'!$A$5:$A$104,0)))*(Setup!$C$47:$C$49>=INDEX('Employee Master'!$Q$5:$Q$104,MATCH(A7,'Employee Master'!$A$5:$A$104,0)))*Setup!$D$47:$D$49),Setup!$B$22),Setup!$B$22)) -> 14 | E7: =IFERROR(C7-D7,"") -> 14 | F7: =IF(A7="","",Setup!$B$23) -> 14 | H7: =IFERROR(F7-G7,"") -> 14 | I7: =IF(A7="","",Setup!$B$24) -> 98 | K7: =IFERROR(I7-J7,"") -> 98
B8: =IFERROR(INDEX('Employee Master'!$B$5:$B$104,MATCH(A8,'Employee Master'!$A$5:$A$104,0)),"") | C8: =IF(A8="","",IF(Setup!$B$44="Yes",IFERROR(SUMPRODUCT((Setup!$B$47:$B$49<=INDEX('Employee Master'!$Q$5:$Q$104,MATCH(A8,'Employee Master'!$A$5:$A$104,0)))*(Setup!$C$47:$C$49>=INDEX('Employee Master'!$Q$5:$Q$104,MATCH(A8,'Employee Master'!$A$5:$A$104,0)))*Setup!$D$47:$D$49),Setup!$B$22),Setup!$B$22)) | E8: =IFERROR(C8-D8,"") | F8: =IF(A8="","",Setup!$B$23) | H8: =IFERROR(F8-G8,"") | I8: =IF(A8="","",Setup!$B$24) | K8: =IFERROR(I8-J8,"")
B9: =IFERROR(INDEX('Employee Master'!$B$5:$B$104,MATCH(A9,'Employee Master'!$A$5:$A$104,0)),"") | C9: =IF(A9="","",IF(Setup!$B$44="Yes",IFERROR(SUMPRODUCT((Setup!$B$47:$B$49<=INDEX('Employee Master'!$Q$5:$Q$104,MATCH(A9,'Employee Master'!$A$5:$A$104,0)))*(Setup!$C$47:$C$49>=INDEX('Employee Master'!$Q$5:$Q$104,MATCH(A9,'Employee Master'!$A$5:$A$104,0)))*Setup!$D$47:$D$49),Setup!$B$22),Setup!$B$22)) | E9: =IFERROR(C9-D9,"") | F9: =IF(A9="","",Setup!$B$23) | H9: =IFERROR(F9-G9,"") | I9: =IF(A9="","",Setup!$B$24) | K9: =IFERROR(I9-J9,"")
B10: =IFERROR(INDEX('Employee Master'!$B$5:$B$104,MATCH(A10,'Employee Master'!$A$5:$A$104,0)),"") | C10: =IF(A10="","",IF(Setup!$B$44="Yes",IFERROR(SUMPRODUCT((Setup!$B$47:$B$49<=INDEX('Employee Master'!$Q$5:$Q$104,MATCH(A10,'Employee Master'!$A$5:$A$104,0)))*(Setup!$C$47:$C$49>=INDEX('Employee Master'!$Q$5:$Q$104,MATCH(A10,'Employee Master'!$A$5:$A$104,0)))*Setup!$D$47:$D$49),Setup!$B$22),Setup!$B$22)) | E10: =IFERROR(C10-D10,"") | F10: =IF(A10="","",Setup!$B$23) | H10: =IFERROR(F10-G10,"") | I10: =IF(A10="","",Setup!$B$24) | K10: =IFERROR(I10-J10,"")
B11: =IFERROR(INDEX('Employee Master'!$B$5:$B$104,MATCH(A11,'Employee Master'!$A$5:$A$104,0)),"") | C11: =IF(A11="","",IF(Setup!$B$44="Yes",IFERROR(SUMPRODUCT((Setup!$B$47:$B$49<=INDEX('Employee Master'!$Q$5:$Q$104,MATCH(A11,'Employee Master'!$A$5:$A$104,0)))*(Setup!$C$47:$C$49>=INDEX('Employee Master'!$Q$5:$Q$104,MATCH(A11,'Employee Master'!$A$5:$A$104,0)))*Setup!$D$47:$D$49),Setup!$B$22),Setup!$B$22)) | E11: =IFERROR(C11-D11,"") | F11: =IF(A11="","",Setup!$B$23) | H11: =IFERROR(F11-G11,"") | I11: =IF(A11="","",Setup!$B$24) | K11: =IFERROR(I11-J11,"")
B12: =IFERROR(INDEX('Employee Master'!$B$5:$B$104,MATCH(A12,'Employee Master'!$A$5:$A$104,0)),"") | C12: =IF(A12="","",IF(Setup!$B$44="Yes",IFERROR(SUMPRODUCT((Setup!$B$47:$B$49<=INDEX('Employee Master'!$Q$5:$Q$104,MATCH(A12,'Employee Master'!$A$5:$A$104,0)))*(Setup!$C$47:$C$49>=INDEX('Employee Master'!$Q$5:$Q$104,MATCH(A12,'Employee Master'!$A$5:$A$104,0)))*Setup!$D$47:$D$49),Setup!$B$22),Setup!$B$22)) | E12: =IFERROR(C12-D12,"") | F12: =IF(A12="","",Setup!$B$23) | H12: =IFERROR(F12-G12,"") | I12: =IF(A12="","",Setup!$B$24) | K12: =IFERROR(I12-J12,"")
B13: =IFERROR(INDEX('Employee Master'!$B$5:$B$104,MATCH(A13,'Employee Master'!$A$5:$A$104,0)),"") | C13: =IF(A13="","",IF(Setup!$B$44="Yes",IFERROR(SUMPRODUCT((Setup!$B$47:$B$49<=INDEX('Employee Master'!$Q$5:$Q$104,MATCH(A13,'Employee Master'!$A$5:$A$104,0)))*(Setup!$C$47:$C$49>=INDEX('Employee Master'!$Q$5:$Q$104,MATCH(A13,'Employee Master'!$A$5:$A$104,0)))*Setup!$D$47:$D$49),Setup!$B$22),Setup!$B$22)) | E13: =IFERROR(C13-D13,"") | F13: =IF(A13="","",Setup!$B$23) | H13: =IFERROR(F13-G13,"") | I13: =IF(A13="","",Setup!$B$24) | K13: =IFERROR(I13-J13,"")
B14: =IFERROR(INDEX('Employee Master'!$B$5:$B$104,MATCH(A14,'Employee Master'!$A$5:$A$104,0)),"") | C14: =IF(A14="","",IF(Setup!$B$44="Yes",IFERROR(SUMPRODUCT((Setup!$B$47:$B$49<=INDEX('Employee Master'!$Q$5:$Q$104,MATCH(A14,'Employee Master'!$A$5:$A$104,0)))*(Setup!$C$47:$C$49>=INDEX('Employee Master'!$Q$5:$Q$104,MATCH(A14,'Employee Master'!$A$5:$A$104,0)))*Setup!$D$47:$D$49),Setup!$B$22),Setup!$B$22)) | E14: =IFERROR(C14-D14,"") | F14: =IF(A14="","",Setup!$B$23) | H14: =IFERROR(F14-G14,"") | I14: =IF(A14="","",Setup!$B$24) | K14: =IFERROR(I14-J14,"")
B15: =IFERROR(INDEX('Employee Master'!$B$5:$B$104,MATCH(A15,'Employee Master'!$A$5:$A$104,0)),"") | C15: =IF(A15="","",IF(Setup!$B$44="Yes",IFERROR(SUMPRODUCT((Setup!$B$47:$B$49<=INDEX('Employee Master'!$Q$5:$Q$104,MATCH(A15,'Employee Master'!$A$5:$A$104,0)))*(Setup!$C$47:$C$49>=INDEX('Employee Master'!$Q$5:$Q$104,MATCH(A15,'Employee Master'!$A$5:$A$104,0)))*Setup!$D$47:$D$49),Setup!$B$22),Setup!$B$22)) | E15: =IFERROR(C15-D15,"") | F15: =IF(A15="","",Setup!$B$23) | H15: =IFERROR(F15-G15,"") | I15: =IF(A15="","",Setup!$B$24) | K15: =IFERROR(I15-J15,"")
B16: =IFERROR(INDEX('Employee Master'!$B$5:$B$104,MATCH(A16,'Employee Master'!$A$5:$A$104,0)),"") | C16: =IF(A16="","",IF(Setup!$B$44="Yes",IFERROR(SUMPRODUCT((Setup!$B$47:$B$49<=INDEX('Employee Master'!$Q$5:$Q$104,MATCH(A16,'Employee Master'!$A$5:$A$104,0)))*(Setup!$C$47:$C$49>=INDEX('Employee Master'!$Q$5:$Q$104,MATCH(A16,'Employee Master'!$A$5:$A$104,0)))*Setup!$D$47:$D$49),Setup!$B$22),Setup!$B$22)) | E16: =IFERROR(C16-D16,"") | F16: =IF(A16="","",Setup!$B$23) | H16: =IFERROR(F16-G16,"") | I16: =IF(A16="","",Setup!$B$24) | K16: =IFERROR(I16-J16,"")
B17: =IFERROR(INDEX('Employee Master'!$B$5:$B$104,MATCH(A17,'Employee Master'!$A$5:$A$104,0)),"") | C17: =IF(A17="","",IF(Setup!$B$44="Yes",IFERROR(SUMPRODUCT((Setup!$B$47:$B$49<=INDEX('Employee Master'!$Q$5:$Q$104,MATCH(A17,'Employee Master'!$A$5:$A$104,0)))*(Setup!$C$47:$C$49>=INDEX('Employee Master'!$Q$5:$Q$104,MATCH(A17,'Employee Master'!$A$5:$A$104,0)))*Setup!$D$47:$D$49),Setup!$B$22),Setup!$B$22)) | E17: =IFERROR(C17-D17,"") | F17: =IF(A17="","",Setup!$B$23) | H17: =IFERROR(F17-G17,"") | I17: =IF(A17="","",Setup!$B$24) | K17: =IFERROR(I17-J17,"")
B18: =IFERROR(INDEX('Employee Master'!$B$5:$B$104,MATCH(A18,'Employee Master'!$A$5:$A$104,0)),"") | C18: =IF(A18="","",IF(Setup!$B$44="Yes",IFERROR(SUMPRODUCT((Setup!$B$47:$B$49<=INDEX('Employee Master'!$Q$5:$Q$104,MATCH(A18,'Employee Master'!$A$5:$A$104,0)))*(Setup!$C$47:$C$49>=INDEX('Employee Master'!$Q$5:$Q$104,MATCH(A18,'Employee Master'!$A$5:$A$104,0)))*Setup!$D$47:$D$49),Setup!$B$22),Setup!$B$22)) | E18: =IFERROR(C18-D18,"") | F18: =IF(A18="","",Setup!$B$23) | H18: =IFERROR(F18-G18,"") | I18: =IF(A18="","",Setup!$B$24) | K18: =IFERROR(I18-J18,"")
B19: =IFERROR(INDEX('Employee Master'!$B$5:$B$104,MATCH(A19,'Employee Master'!$A$5:$A$104,0)),"") | C19: =IF(A19="","",IF(Setup!$B$44="Yes",IFERROR(SUMPRODUCT((Setup!$B$47:$B$49<=INDEX('Employee Master'!$Q$5:$Q$104,MATCH(A19,'Employee Master'!$A$5:$A$104,0)))*(Setup!$C$47:$C$49>=INDEX('Employee Master'!$Q$5:$Q$104,MATCH(A19,'Employee Master'!$A$5:$A$104,0)))*Setup!$D$47:$D$49),Setup!$B$22),Setup!$B$22)) | E19: =IFERROR(C19-D19,"") | F19: =IF(A19="","",Setup!$B$23) | H19: =IFERROR(F19-G19,"") | I19: =IF(A19="","",Setup!$B$24) | K19: =IFERROR(I19-J19,"")
... B104: =IFERROR(INDEX('Employee Master'!$B$5:$B$104,MATCH(A104,'Employee Master'!$A$5:$A$104,0)),"") | C104: =IF(A104="","",IF(Setup!$B$44="Yes",IFERROR(SUMPRODUCT((Setup!$B$47:$B$49<=INDEX('Employee Master'!$Q$5:$Q$104,MATCH(A104,'Employee Master'!$A$5:$A$104,0)))*(Setup!$C$47:$C$49>=INDEX('Employee Master'!$Q$5:$Q$104,MATCH(A104,'Employee Master'!$A$5:$A$104,0)))*Setup!$D$47:$D$49),Setup!$B$22),Setup!$B$22)) | E104: =IFERROR(C104-D104,"") | F104: =IF(A104="","",Setup!$B$23) | H104: =IFERROR(F104-G104,"") | I104: =IF(A104="","",Setup!$B$24) | K104: =IFERROR(I104-J104,"")

Sheet Performance
A1: Performance
A2: Most recent review per employee. Next-review date and overdue flag are auto-calculated.
A4: Employee ID | B4: Full Name (auto) | C4: Last Review Date | D4: Rating | E4: Comments | F4: Next Review Due | G4: Status | H4: Department (auto)
A5: EMP-001 | B5: =IFERROR(INDEX('Employee Master'!$B$5:$B$104,MATCH(A5,'Employee Master'!$A$5:$A$104,0)),"") -> Anita Sookhai | C5: 45823 | D5: 4 - Exceeds | E5: Strong year; promote to senior level. | F5: =IF(C5="","",EDATE(C5,Setup!$B$32)) -> 46188 | G5: =IF(C5="","",IF(TODAY()>F5,"OVERDUE",IF(F5-TODAY()<=30,"Due Soon","On Track"))) -> Due Soon | H5: =IFERROR(INDEX('Employee Master'!$D$5:$D$104,MATCH(A5,'Employee Master'!$A$5:$A$104,0)),"") -> Human Resources
A6: EMP-002 | B6: =IFERROR(INDEX('Employee Master'!$B$5:$B$104,MATCH(A6,'Employee Master'!$A$5:$A$104,0)),"") -> Reuben Mohammed | C6: 45824 | F6: =IF(C6="","",EDATE(C6,Setup!$B$32)) -> 46189 | G6: =IF(C6="","",IF(TODAY()>F6,"OVERDUE",IF(F6-TODAY()<=30,"Due Soon","On Track"))) -> Due Soon | H6: =IFERROR(INDEX('Employee Master'!$D$5:$D$104,MATCH(A6,'Employee Master'!$A$5:$A$104,0)),"") -> Finance
B7: =IFERROR(INDEX('Employee Master'!$B$5:$B$104,MATCH(A7,'Employee Master'!$A$5:$A$104,0)),"") | F7: =IF(C7="","",EDATE(C7,Setup!$B$32)) | G7: =IF(C7="","",IF(TODAY()>F7,"OVERDUE",IF(F7-TODAY()<=30,"Due Soon","On Track"))) | H7: =IFERROR(INDEX('Employee Master'!$D$5:$D$104,MATCH(A7,'Employee Master'!$A$5:$A$104,0)),"")
B8: =IFERROR(INDEX('Employee Master'!$B$5:$B$104,MATCH(A8,'Employee Master'!$A$5:$A$104,0)),"") | F8: =IF(C8="","",EDATE(C8,Setup!$B$32)) | G8: =IF(C8="","",IF(TODAY()>F8,"OVERDUE",IF(F8-TODAY()<=30,"Due Soon","On Track"))) | H8: =IFERROR(INDEX('Employee Master'!$D$5:$D$104,MATCH(A8,'Employee Master'!$A$5:$A$104,0)),"")
B9: =IFERROR(INDEX('Employee Master'!$B$5:$B$104,MATCH(A9,'Employee Master'!$A$5:$A$104,0)),"") | F9: =IF(C9="","",EDATE(C9,Setup!$B$32)) | G9: =IF(C9="","",IF(TODAY()>F9,"OVERDUE",IF(F9-TODAY()<=30,"Due Soon","On Track"))) | H9: =IFERROR(INDEX('Employee Master'!$D$5:$D$104,MATCH(A9,'Employee Master'!$A$5:$A$104,0)),"")
B10: =IFERROR(INDEX('Employee Master'!$B$5:$B$104,MATCH(A10,'Employee Master'!$A$5:$A$104,0)),"") | F10: =IF(C10="","",EDATE(C10,Setup!$B$32)) | G10: =IF(C10="","",IF(TODAY()>F10,"OVERDUE",IF(F10-TODAY()<=30,"Due Soon","On Track"))) | H10: =IFERROR(INDEX('Employee Master'!$D$5:$D$104,MATCH(A10,'Employee Master'!$A$5:$A$104,0)),"")
B11: =IFERROR(INDEX('Employee Master'!$B$5:$B$104,MATCH(A11,'Employee Master'!$A$5:$A$104,0)),"") | F11: =IF(C11="","",EDATE(C11,Setup!$B$32)) | G11: =IF(C11="","",IF(TODAY()>F11,"OVERDUE",IF(F11-TODAY()<=30,"Due Soon","On Track"))) | H11: =IFERROR(INDEX('Employee Master'!$D$5:$D$104,MATCH(A11,'Employee Master'!$A$5:$A$104,0)),"")
B12: =IFERROR(INDEX('Employee Master'!$B$5:$B$104,MATCH(A12,'Employee Master'!$A$5:$A$104,0)),"") | F12: =IF(C12="","",EDATE(C12,Setup!$B$32)) | G12: =IF(C12="","",IF(TODAY()>F12,"OVERDUE",IF(F12-TODAY()<=30,"Due Soon","On Track"))) | H12: =IFERROR(INDEX('Employee Master'!$D$5:$D$104,MATCH(A12,'Employee Master'!$A$5:$A$104,0)),"")
B13: =IFERROR(INDEX('Employee Master'!$B$5:$B$104,MATCH(A13,'Employee Master'!$A$5:$A$104,0)),"") | F13: =IF(C13="","",EDATE(C13,Setup!$B$32)) | G13: =IF(C13="","",IF(TODAY()>F13,"OVERDUE",IF(F13-TODAY()<=30,"Due Soon","On Track"))) | H13: =IFERROR(INDEX('Employee Master'!$D$5:$D$104,MATCH(A13,'Employee Master'!$A$5:$A$104,0)),"")
B14: =IFERROR(INDEX('Employee Master'!$B$5:$B$104,MATCH(A14,'Employee Master'!$A$5:$A$104,0)),"") | F14: =IF(C14="","",EDATE(C14,Setup!$B$32)) | G14: =IF(C14="","",IF(TODAY()>F14,"OVERDUE",IF(F14-TODAY()<=30,"Due Soon","On Track"))) | H14: =IFERROR(INDEX('Employee Master'!$D$5:$D$104,MATCH(A14,'Employee Master'!$A$5:$A$104,0)),"")
B15: =IFERROR(INDEX('Employee Master'!$B$5:$B$104,MATCH(A15,'Employee Master'!$A$5:$A$104,0)),"") | F15: =IF(C15="","",EDATE(C15,Setup!$B$32)) | G15: =IF(C15="","",IF(TODAY()>F15,"OVERDUE",IF(F15-TODAY()<=30,"Due Soon","On Track"))) | H15: =IFERROR(INDEX('Employee Master'!$D$5:$D$104,MATCH(A15,'Employee Master'!$A$5:$A$104,0)),"")
B16: =IFERROR(INDEX('Employee Master'!$B$5:$B$104,MATCH(A16,'Employee Master'!$A$5:$A$104,0)),"") | F16: =IF(C16="","",EDATE(C16,Setup!$B$32)) | G16: =IF(C16="","",IF(TODAY()>F16,"OVERDUE",IF(F16-TODAY()<=30,"Due Soon","On Track"))) | H16: =IFERROR(INDEX('Employee Master'!$D$5:$D$104,MATCH(A16,'Employee Master'!$A$5:$A$104,0)),"")
B17: =IFERROR(INDEX('Employee Master'!$B$5:$B$104,MATCH(A17,'Employee Master'!$A$5:$A$104,0)),"") | F17: =IF(C17="","",EDATE(C17,Setup!$B$32)) | G17: =IF(C17="","",IF(TODAY()>F17,"OVERDUE",IF(F17-TODAY()<=30,"Due Soon","On Track"))) | H17: =IFERROR(INDEX('Employee Master'!$D$5:$D$104,MATCH(A17,'Employee Master'!$A$5:$A$104,0)),"")
B18: =IFERROR(INDEX('Employee Master'!$B$5:$B$104,MATCH(A18,'Employee Master'!$A$5:$A$104,0)),"") | F18: =IF(C18="","",EDATE(C18,Setup!$B$32)) | G18: =IF(C18="","",IF(TODAY()>F18,"OVERDUE",IF(F18-TODAY()<=30,"Due Soon","On Track"))) | H18: =IFERROR(INDEX('Employee Master'!$D$5:$D$104,MATCH(A18,'Employee Master'!$A$5:$A$104,0)),"")
... B104: =IFERROR(INDEX('Employee Master'!$B$5:$B$104,MATCH(A104,'Employee Master'!$A$5:$A$104,0)),"") | F104: =IF(C104="","",EDATE(C104,Setup!$B$32)) | G104: =IF(C104="","",IF(TODAY()>F104,"OVERDUE",IF(F104-TODAY()<=30,"Due Soon","On Track"))) | H104: =IFERROR(INDEX('Employee Master'!$D$5:$D$104,MATCH(A104,'Employee Master'!$A$5:$A$104,0)),"")

Sheet Privacy & Access
A1: Privacy & Access
A2: Data Protection Act 2011 — Posture Statement & Access Log
A4: Data held in this workbook
A5: Categories of personal data
A6: Names, contact details, dates of birth, home addresses, emergency contacts, salary information, NIS and BIR numbers, leave records, performance ratings, disciplinary history, training records.
A7: Lawful basis for processing
A8: Performance of the employment contract; compliance with statutory obligations under the Income Tax Act, NIS Act, OSH Act, Maternity Protection Act, and Industrial Relations Act; legitimate interests of the employer in workforce administration.
A9: Who has access
A10: Restricted to: HR Manager and HR Officer (full access). Line Managers (employees in their team only, excluding salary and disciplinary records). Directors (full access on request). Edit list below.
A11: Retention period
A12: Personnel records retained for the duration of employment plus 7 years thereafter, in line with the Income Tax Act record-keeping requirements. Disciplinary records lapse per the timelines in Setup but may be retained for the same 7-year period for audit purposes.
A13: Where this file is stored
... A18: Authorised Users
A19: Name | B19: Role | C19: Access Level | D19: Date Granted | E19: Date Revoked | F19: Notes
A20: Tricia Chung | B20: HR Manager | C20: Full | D20: 46023
A47: How to harden this file (Excel does not enforce these automatically)
A48: 1. File-level password: File > Info > Protect Workbook > Encrypt with Password. Choose a strong password and store it separately.
A49: 2. Sheet protection on Personal Info, Employment Details, and Disciplinary Register: Review > Protect Sheet. Allow only authorised users.
A50: 3. Restrict edit access at the storage layer (SharePoint, Drive, server folder) so only authorised users can open the file.
A51: 4. Never email this file as an attachment — share via a secure link with permissions controlled at the storage layer.
A52: 5. Maintain the access log above. Revoke access promptly when an authorised user leaves the role.
A53: 6. Review this Privacy & Access tab every 12 months and update the data inventory and authorised users list.

Sheet Probation Tracker
A1: Probation Tracker
A2: Auto-pulls employees with Contract Type = "Probationary" or Status = "Probation". Use the Decision and Decision Date columns to record the outcome.
A4: Employee ID | B4: Full Name (auto) | C4: Start Date (auto) | D4: Probation End (auto) | E4: Days Remaining | F4: Decision | G4: Decision Date | H4: Notes
A5: EMP-003 | B5: =IFERROR(INDEX('Employee Master'!$B$5:$B$104,MATCH(A5,'Employee Master'!$A$5:$A$104,0)),"") -> Keisha Charles | C5: =IFERROR(INDEX('Employee Master'!$G$5:$G$104,MATCH(A5,'Employee Master'!$A$5:$A$104,0)),"") -> 46056 | D5: =IFERROR(INDEX('Employee Master'!$H$5:$H$104,MATCH(A5,'Employee Master'!$A$5:$A$104,0)),"") -> 46145 | E5: =IFERROR(IF(D5="","",D5-TODAY()),"") -> -38
B6: =IFERROR(INDEX('Employee Master'!$B$5:$B$104,MATCH(A6,'Employee Master'!$A$5:$A$104,0)),"") | C6: =IFERROR(INDEX('Employee Master'!$G$5:$G$104,MATCH(A6,'Employee Master'!$A$5:$A$104,0)),"") | D6: =IFERROR(INDEX('Employee Master'!$H$5:$H$104,MATCH(A6,'Employee Master'!$A$5:$A$104,0)),"") | E6: =IFERROR(IF(D6="","",D6-TODAY()),"")
B7: =IFERROR(INDEX('Employee Master'!$B$5:$B$104,MATCH(A7,'Employee Master'!$A$5:$A$104,0)),"") | C7: =IFERROR(INDEX('Employee Master'!$G$5:$G$104,MATCH(A7,'Employee Master'!$A$5:$A$104,0)),"") | D7: =IFERROR(INDEX('Employee Master'!$H$5:$H$104,MATCH(A7,'Employee Master'!$A$5:$A$104,0)),"") | E7: =IFERROR(IF(D7="","",D7-TODAY()),"")
B8: =IFERROR(INDEX('Employee Master'!$B$5:$B$104,MATCH(A8,'Employee Master'!$A$5:$A$104,0)),"") | C8: =IFERROR(INDEX('Employee Master'!$G$5:$G$104,MATCH(A8,'Employee Master'!$A$5:$A$104,0)),"") | D8: =IFERROR(INDEX('Employee Master'!$H$5:$H$104,MATCH(A8,'Employee Master'!$A$5:$A$104,0)),"") | E8: =IFERROR(IF(D8="","",D8-TODAY()),"")
B9: =IFERROR(INDEX('Employee Master'!$B$5:$B$104,MATCH(A9,'Employee Master'!$A$5:$A$104,0)),"") | C9: =IFERROR(INDEX('Employee Master'!$G$5:$G$104,MATCH(A9,'Employee Master'!$A$5:$A$104,0)),"") | D9: =IFERROR(INDEX('Employee Master'!$H$5:$H$104,MATCH(A9,'Employee Master'!$A$5:$A$104,0)),"") | E9: =IFERROR(IF(D9="","",D9-TODAY()),"")
B10: =IFERROR(INDEX('Employee Master'!$B$5:$B$104,MATCH(A10,'Employee Master'!$A$5:$A$104,0)),"") | C10: =IFERROR(INDEX('Employee Master'!$G$5:$G$104,MATCH(A10,'Employee Master'!$A$5:$A$104,0)),"") | D10: =IFERROR(INDEX('Employee Master'!$H$5:$H$104,MATCH(A10,'Employee Master'!$A$5:$A$104,0)),"") | E10: =IFERROR(IF(D10="","",D10-TODAY()),"")
B11: =IFERROR(INDEX('Employee Master'!$B$5:$B$104,MATCH(A11,'Employee Master'!$A$5:$A$104,0)),"") | C11: =IFERROR(INDEX('Employee Master'!$G$5:$G$104,MATCH(A11,'Employee Master'!$A$5:$A$104,0)),"") | D11: =IFERROR(INDEX('Employee Master'!$H$5:$H$104,MATCH(A11,'Employee Master'!$A$5:$A$104,0)),"") | E11: =IFERROR(IF(D11="","",D11-TODAY()),"")
B12: =IFERROR(INDEX('Employee Master'!$B$5:$B$104,MATCH(A12,'Employee Master'!$A$5:$A$104,0)),"") | C12: =IFERROR(INDEX('Employee Master'!$G$5:$G$104,MATCH(A12,'Employee Master'!$A$5:$A$104,0)),"") | D12: =IFERROR(INDEX('Employee Master'!$H$5:$H$104,MATCH(A12,'Employee Master'!$A$5:$A$104,0)),"") | E12: =IFERROR(IF(D12="","",D12-TODAY()),"")
B13: =IFERROR(INDEX('Employee Master'!$B$5:$B$104,MATCH(A13,'Employee Master'!$A$5:$A$104,0)),"") | C13: =IFERROR(INDEX('Employee Master'!$G$5:$G$104,MATCH(A13,'Employee Master'!$A$5:$A$104,0)),"") | D13: =IFERROR(INDEX('Employee Master'!$H$5:$H$104,MATCH(A13,'Employee Master'!$A$5:$A$104,0)),"") | E13: =IFERROR(IF(D13="","",D13-TODAY()),"")
B14: =IFERROR(INDEX('Employee Master'!$B$5:$B$104,MATCH(A14,'Employee Master'!$A$5:$A$104,0)),"") | C14: =IFERROR(INDEX('Employee Master'!$G$5:$G$104,MATCH(A14,'Employee Master'!$A$5:$A$104,0)),"") | D14: =IFERROR(INDEX('Employee Master'!$H$5:$H$104,MATCH(A14,'Employee Master'!$A$5:$A$104,0)),"") | E14: =IFERROR(IF(D14="","",D14-TODAY()),"")
B15: =IFERROR(INDEX('Employee Master'!$B$5:$B$104,MATCH(A15,'Employee Master'!$A$5:$A$104,0)),"") | C15: =IFERROR(INDEX('Employee Master'!$G$5:$G$104,MATCH(A15,'Employee Master'!$A$5:$A$104,0)),"") | D15: =IFERROR(INDEX('Employee Master'!$H$5:$H$104,MATCH(A15,'Employee Master'!$A$5:$A$104,0)),"") | E15: =IFERROR(IF(D15="","",D15-TODAY()),"")
B16: =IFERROR(INDEX('Employee Master'!$B$5:$B$104,MATCH(A16,'Employee Master'!$A$5:$A$104,0)),"") | C16: =IFERROR(INDEX('Employee Master'!$G$5:$G$104,MATCH(A16,'Employee Master'!$A$5:$A$104,0)),"") | D16: =IFERROR(INDEX('Employee Master'!$H$5:$H$104,MATCH(A16,'Employee Master'!$A$5:$A$104,0)),"") | E16: =IFERROR(IF(D16="","",D16-TODAY()),"")
B17: =IFERROR(INDEX('Employee Master'!$B$5:$B$104,MATCH(A17,'Employee Master'!$A$5:$A$104,0)),"") | C17: =IFERROR(INDEX('Employee Master'!$G$5:$G$104,MATCH(A17,'Employee Master'!$A$5:$A$104,0)),"") | D17: =IFERROR(INDEX('Employee Master'!$H$5:$H$104,MATCH(A17,'Employee Master'!$A$5:$A$104,0)),"") | E17: =IFERROR(IF(D17="","",D17-TODAY()),"")
... B104: =IFERROR(INDEX('Employee Master'!$B$5:$B$104,MATCH(A104,'Employee Master'!$A$5:$A$104,0)),"") | C104: =IFERROR(INDEX('Employee Master'!$G$5:$G$104,MATCH(A104,'Employee Master'!$A$5:$A$104,0)),"") | D104: =IFERROR(INDEX('Employee Master'!$H$5:$H$104,MATCH(A104,'Employee Master'!$A$5:$A$104,0)),"") | E104: =IFERROR(IF(D104="","",D104-TODAY()),"")

Sheet Contract & Permit Tracker
A1: Contract & Permit Tracker
A2: Track fixed-term contract end dates and work permit expiries for non-nationals. Status colour-codes against the alert windows in Setup.
A3: IMMIGRATION ACT EXPOSURE: employing a non-national on a lapsed work permit creates liability for both employer and employee. Begin renewal at least 90 days before expiry.
A5: Employee ID | B5: Full Name (auto) | C5: Contract Type | D5: Contract End Date | E5: Days to Contract End | F5: Non-National? | G5: Permit Number | H5: Permit Expiry | I5: Days to Permit Expiry | J5: Permit Status | K5: Notes
B6: =IFERROR(INDEX('Employee Master'!$B$5:$B$104,MATCH(A6,'Employee Master'!$A$5:$A$104,0)),"") | C6: =IFERROR(INDEX('Employee Master'!$F$5:$F$104,MATCH(A6,'Employee Master'!$A$5:$A$104,0)),"") | E6: =IFERROR(IF(D6="","",D6-TODAY()),"") | I6: =IFERROR(IF(H6="","",H6-TODAY()),"")
B7: =IFERROR(INDEX('Employee Master'!$B$5:$B$104,MATCH(A7,'Employee Master'!$A$5:$A$104,0)),"") | C7: =IFERROR(INDEX('Employee Master'!$F$5:$F$104,MATCH(A7,'Employee Master'!$A$5:$A$104,0)),"") | E7: =IFERROR(IF(D7="","",D7-TODAY()),"") | I7: =IFERROR(IF(H7="","",H7-TODAY()),"")
B8: =IFERROR(INDEX('Employee Master'!$B$5:$B$104,MATCH(A8,'Employee Master'!$A$5:$A$104,0)),"") | C8: =IFERROR(INDEX('Employee Master'!$F$5:$F$104,MATCH(A8,'Employee Master'!$A$5:$A$104,0)),"") | E8: =IFERROR(IF(D8="","",D8-TODAY()),"") | I8: =IFERROR(IF(H8="","",H8-TODAY()),"")
B9: =IFERROR(INDEX('Employee Master'!$B$5:$B$104,MATCH(A9,'Employee Master'!$A$5:$A$104,0)),"") | C9: =IFERROR(INDEX('Employee Master'!$F$5:$F$104,MATCH(A9,'Employee Master'!$A$5:$A$104,0)),"") | E9: =IFERROR(IF(D9="","",D9-TODAY()),"") | I9: =IFERROR(IF(H9="","",H9-TODAY()),"")
B10: =IFERROR(INDEX('Employee Master'!$B$5:$B$104,MATCH(A10,'Employee Master'!$A$5:$A$104,0)),"") | C10: =IFERROR(INDEX('Employee Master'!$F$5:$F$104,MATCH(A10,'Employee Master'!$A$5:$A$104,0)),"") | E10: =IFERROR(IF(D10="","",D10-TODAY()),"") | I10: =IFERROR(IF(H10="","",H10-TODAY()),"")
B11: =IFERROR(INDEX('Employee Master'!$B$5:$B$104,MATCH(A11,'Employee Master'!$A$5:$A$104,0)),"") | C11: =IFERROR(INDEX('Employee Master'!$F$5:$F$104,MATCH(A11,'Employee Master'!$A$5:$A$104,0)),"") | E11: =IFERROR(IF(D11="","",D11-TODAY()),"") | I11: =IFERROR(IF(H11="","",H11-TODAY()),"")
B12: =IFERROR(INDEX('Employee Master'!$B$5:$B$104,MATCH(A12,'Employee Master'!$A$5:$A$104,0)),"") | C12: =IFERROR(INDEX('Employee Master'!$F$5:$F$104,MATCH(A12,'Employee Master'!$A$5:$A$104,0)),"") | E12: =IFERROR(IF(D12="","",D12-TODAY()),"") | I12: =IFERROR(IF(H12="","",H12-TODAY()),"")
B13: =IFERROR(INDEX('Employee Master'!$B$5:$B$104,MATCH(A13,'Employee Master'!$A$5:$A$104,0)),"") | C13: =IFERROR(INDEX('Employee Master'!$F$5:$F$104,MATCH(A13,'Employee Master'!$A$5:$A$104,0)),"") | E13: =IFERROR(IF(D13="","",D13-TODAY()),"") | I13: =IFERROR(IF(H13="","",H13-TODAY()),"")
B14: =IFERROR(INDEX('Employee Master'!$B$5:$B$104,MATCH(A14,'Employee Master'!$A$5:$A$104,0)),"") | C14: =IFERROR(INDEX('Employee Master'!$F$5:$F$104,MATCH(A14,'Employee Master'!$A$5:$A$104,0)),"") | E14: =IFERROR(IF(D14="","",D14-TODAY()),"") | I14: =IFERROR(IF(H14="","",H14-TODAY()),"")
B15: =IFERROR(INDEX('Employee Master'!$B$5:$B$104,MATCH(A15,'Employee Master'!$A$5:$A$104,0)),"") | C15: =IFERROR(INDEX('Employee Master'!$F$5:$F$104,MATCH(A15,'Employee Master'!$A$5:$A$104,0)),"") | E15: =IFERROR(IF(D15="","",D15-TODAY()),"") | I15: =IFERROR(IF(H15="","",H15-TODAY()),"")
B16: =IFERROR(INDEX('Employee Master'!$B$5:$B$104,MATCH(A16,'Employee Master'!$A$5:$A$104,0)),"") | C16: =IFERROR(INDEX('Employee Master'!$F$5:$F$104,MATCH(A16,'Employee Master'!$A$5:$A$104,0)),"") | E16: =IFERROR(IF(D16="","",D16-TODAY()),"") | I16: =IFERROR(IF(H16="","",H16-TODAY()),"")
B17: =IFERROR(INDEX('Employee Master'!$B$5:$B$104,MATCH(A17,'Employee Master'!$A$5:$A$104,0)),"") | C17: =IFERROR(INDEX('Employee Master'!$F$5:$F$104,MATCH(A17,'Employee Master'!$A$5:$A$104,0)),"") | E17: =IFERROR(IF(D17="","",D17-TODAY()),"") | I17: =IFERROR(IF(H17="","",H17-TODAY()),"")
... B105: =IFERROR(INDEX('Employee Master'!$B$5:$B$104,MATCH(A105,'Employee Master'!$A$5:$A$104,0)),"") | C105: =IFERROR(INDEX('Employee Master'!$F$5:$F$104,MATCH(A105,'Employee Master'!$A$5:$A$104,0)),"") | E105: =IFERROR(IF(D105="","",D105-TODAY()),"") | I105: =IFERROR(IF(H105="","",H105-TODAY()),"")

Sheet Training Register
A1: Training Register
A2: One row per training event per employee. Set "Renewable" to Yes for certifications with an expiry date (e.g. First Aid, OSH). Status auto-flags expiring certifications.
A4: Employee ID | B4: Full Name (auto) | C4: Training Name | D4: Provider | E4: Completion Date | F4: Renewable? | G4: Validity (Months) | H4: Expiry Date | I4: Status | J4: Department (auto)
A5: EMP-001 | B5: =IFERROR(INDEX('Employee Master'!$B$5:$B$104,MATCH(A5,'Employee Master'!$A$5:$A$104,0)),"") -> Anita Sookhai | C5: First Aid | D5: TT Red Cross | E5: 45883 | F5: Yes | G5: 36 | H5: =IF(OR(F5<>"Yes",E5="",G5=""),"",EDATE(E5,G5)) -> 46979 | I5: =IF(F5<>"Yes","Current",IF(H5="","",IF(TODAY()>H5,"EXPIRED",IF(H5-TODAY()<=Setup!$B$40,"Expiring Soon","Current")))) -> Current | J5: =IFERROR(INDEX('Employee Master'!$D$5:$D$104,MATCH(A5,'Employee Master'!$A$5:$A$104,0)),"") -> Human Resources
B6: =IFERROR(INDEX('Employee Master'!$B$5:$B$104,MATCH(A6,'Employee Master'!$A$5:$A$104,0)),"") | H6: =IF(OR(F6<>"Yes",E6="",G6=""),"",EDATE(E6,G6)) | I6: =IF(F6<>"Yes","Current",IF(H6="","",IF(TODAY()>H6,"EXPIRED",IF(H6-TODAY()<=Setup!$B$40,"Expiring Soon","Current")))) -> Current | J6: =IFERROR(INDEX('Employee Master'!$D$5:$D$104,MATCH(A6,'Employee Master'!$A$5:$A$104,0)),"")
B7: =IFERROR(INDEX('Employee Master'!$B$5:$B$104,MATCH(A7,'Employee Master'!$A$5:$A$104,0)),"") | H7: =IF(OR(F7<>"Yes",E7="",G7=""),"",EDATE(E7,G7)) | I7: =IF(F7<>"Yes","Current",IF(H7="","",IF(TODAY()>H7,"EXPIRED",IF(H7-TODAY()<=Setup!$B$40,"Expiring Soon","Current")))) -> Current | J7: =IFERROR(INDEX('Employee Master'!$D$5:$D$104,MATCH(A7,'Employee Master'!$A$5:$A$104,0)),"")
B8: =IFERROR(INDEX('Employee Master'!$B$5:$B$104,MATCH(A8,'Employee Master'!$A$5:$A$104,0)),"") | H8: =IF(OR(F8<>"Yes",E8="",G8=""),"",EDATE(E8,G8)) | I8: =IF(F8<>"Yes","Current",IF(H8="","",IF(TODAY()>H8,"EXPIRED",IF(H8-TODAY()<=Setup!$B$40,"Expiring Soon","Current")))) -> Current | J8: =IFERROR(INDEX('Employee Master'!$D$5:$D$104,MATCH(A8,'Employee Master'!$A$5:$A$104,0)),"")
B9: =IFERROR(INDEX('Employee Master'!$B$5:$B$104,MATCH(A9,'Employee Master'!$A$5:$A$104,0)),"") | H9: =IF(OR(F9<>"Yes",E9="",G9=""),"",EDATE(E9,G9)) | I9: =IF(F9<>"Yes","Current",IF(H9="","",IF(TODAY()>H9,"EXPIRED",IF(H9-TODAY()<=Setup!$B$40,"Expiring Soon","Current")))) -> Current | J9: =IFERROR(INDEX('Employee Master'!$D$5:$D$104,MATCH(A9,'Employee Master'!$A$5:$A$104,0)),"")
B10: =IFERROR(INDEX('Employee Master'!$B$5:$B$104,MATCH(A10,'Employee Master'!$A$5:$A$104,0)),"") | H10: =IF(OR(F10<>"Yes",E10="",G10=""),"",EDATE(E10,G10)) | I10: =IF(F10<>"Yes","Current",IF(H10="","",IF(TODAY()>H10,"EXPIRED",IF(H10-TODAY()<=Setup!$B$40,"Expiring Soon","Current")))) -> Current | J10: =IFERROR(INDEX('Employee Master'!$D$5:$D$104,MATCH(A10,'Employee Master'!$A$5:$A$104,0)),"")
B11: =IFERROR(INDEX('Employee Master'!$B$5:$B$104,MATCH(A11,'Employee Master'!$A$5:$A$104,0)),"") | H11: =IF(OR(F11<>"Yes",E11="",G11=""),"",EDATE(E11,G11)) | I11: =IF(F11<>"Yes","Current",IF(H11="","",IF(TODAY()>H11,"EXPIRED",IF(H11-TODAY()<=Setup!$B$40,"Expiring Soon","Current")))) -> Current | J11: =IFERROR(INDEX('Employee Master'!$D$5:$D$104,MATCH(A11,'Employee Master'!$A$5:$A$104,0)),"")
B12: =IFERROR(INDEX('Employee Master'!$B$5:$B$104,MATCH(A12,'Employee Master'!$A$5:$A$104,0)),"") | H12: =IF(OR(F12<>"Yes",E12="",G12=""),"",EDATE(E12,G12)) | I12: =IF(F12<>"Yes","Current",IF(H12="","",IF(TODAY()>H12,"EXPIRED",IF(H12-TODAY()<=Setup!$B$40,"Expiring Soon","Current")))) -> Current | J12: =IFERROR(INDEX('Employee Master'!$D$5:$D$104,MATCH(A12,'Employee Master'!$A$5:$A$104,0)),"")
B13: =IFERROR(INDEX('Employee Master'!$B$5:$B$104,MATCH(A13,'Employee Master'!$A$5:$A$104,0)),"") | H13: =IF(OR(F13<>"Yes",E13="",G13=""),"",EDATE(E13,G13)) | I13: =IF(F13<>"Yes","Current",IF(H13="","",IF(TODAY()>H13,"EXPIRED",IF(H13-TODAY()<=Setup!$B$40,"Expiring Soon","Current")))) -> Current | J13: =IFERROR(INDEX('Employee Master'!$D$5:$D$104,MATCH(A13,'Employee Master'!$A$5:$A$104,0)),"")
B14: =IFERROR(INDEX('Employee Master'!$B$5:$B$104,MATCH(A14,'Employee Master'!$A$5:$A$104,0)),"") | H14: =IF(OR(F14<>"Yes",E14="",G14=""),"",EDATE(E14,G14)) | I14: =IF(F14<>"Yes","Current",IF(H14="","",IF(TODAY()>H14,"EXPIRED",IF(H14-TODAY()<=Setup!$B$40,"Expiring Soon","Current")))) -> Current | J14: =IFERROR(INDEX('Employee Master'!$D$5:$D$104,MATCH(A14,'Employee Master'!$A$5:$A$104,0)),"")
B15: =IFERROR(INDEX('Employee Master'!$B$5:$B$104,MATCH(A15,'Employee Master'!$A$5:$A$104,0)),"") | H15: =IF(OR(F15<>"Yes",E15="",G15=""),"",EDATE(E15,G15)) | I15: =IF(F15<>"Yes","Current",IF(H15="","",IF(TODAY()>H15,"EXPIRED",IF(H15-TODAY()<=Setup!$B$40,"Expiring Soon","Current")))) -> Current | J15: =IFERROR(INDEX('Employee Master'!$D$5:$D$104,MATCH(A15,'Employee Master'!$A$5:$A$104,0)),"")
B16: =IFERROR(INDEX('Employee Master'!$B$5:$B$104,MATCH(A16,'Employee Master'!$A$5:$A$104,0)),"") | H16: =IF(OR(F16<>"Yes",E16="",G16=""),"",EDATE(E16,G16)) | I16: =IF(F16<>"Yes","Current",IF(H16="","",IF(TODAY()>H16,"EXPIRED",IF(H16-TODAY()<=Setup!$B$40,"Expiring Soon","Current")))) -> Current | J16: =IFERROR(INDEX('Employee Master'!$D$5:$D$104,MATCH(A16,'Employee Master'!$A$5:$A$104,0)),"")
B17: =IFERROR(INDEX('Employee Master'!$B$5:$B$104,MATCH(A17,'Employee Master'!$A$5:$A$104,0)),"") | H17: =IF(OR(F17<>"Yes",E17="",G17=""),"",EDATE(E17,G17)) | I17: =IF(F17<>"Yes","Current",IF(H17="","",IF(TODAY()>H17,"EXPIRED",IF(H17-TODAY()<=Setup!$B$40,"Expiring Soon","Current")))) -> Current | J17: =IFERROR(INDEX('Employee Master'!$D$5:$D$104,MATCH(A17,'Employee Master'!$A$5:$A$104,0)),"")
... B204: =IFERROR(INDEX('Employee Master'!$B$5:$B$104,MATCH(A204,'Employee Master'!$A$5:$A$104,0)),"") | H204: =IF(OR(F204<>"Yes",E204="",G204=""),"",EDATE(E204,G204)) | I204: =IF(F204<>"Yes","Current",IF(H204="","",IF(TODAY()>H204,"EXPIRED",IF(H204-TODAY()<=Setup!$B$40,"Expiring Soon","Current")))) -> Current | J204: =IFERROR(INDEX('Employee Master'!$D$5:$D$104,MATCH(A204,'Employee Master'!$A$5:$A$104,0)),"")

Sheet Disciplinary Register
A1: Disciplinary Register
A2: Permanent audit trail of warnings issued. Active vs Lapsed is auto-calculated using the validity periods in Setup. Records are not deleted when warnings lapse — they remain for audit and Industrial Court reference.
A3: SENSITIVE: Restrict access. Disciplinary records are subject to the Data Protection Act 2011. See Privacy & Access tab for hardening instructions.
A5: Employee ID | B5: Full Name (auto) | C5: Date Issued | D5: Warning Type | E5: Issuer | F5: Incident Summary | G5: Outcome | H5: Validity (Months) | I5: Lapses On | J5: Status | K5: Department (auto)
B6: =IFERROR(INDEX('Employee Master'!$B$5:$B$104,MATCH(A6,'Employee Master'!$A$5:$A$104,0)),"") | H6: =IF(D6="Verbal",Setup!$B$35,IF(D6="Written",Setup!$B$36,IF(D6="Final",Setup!$B$37,""))) | I6: =IF(OR(C6="",H6=""),"",EDATE(C6,H6)) | J6: =IF(I6="","",IF(D6="Dismissal","Closed",IF(TODAY()>I6,"Lapsed","Active"))) | K6: =IFERROR(INDEX('Employee Master'!$D$5:$D$104,MATCH(A6,'Employee Master'!$A$5:$A$104,0)),"")
